BEGIN:VCALENDAR
VERSION:2.0
PRODID:-//Eagle Springs GCC - Pro Shop - ECPv6.15.20//NONSGML v1.0//EN
CALSCALE:GREGORIAN
METHOD:PUBLISH
X-ORIGINAL-URL:https://eaglespringsgcc.com
X-WR-CALDESC:Events for Eagle Springs GCC - Pro Shop
REFRESH-INTERVAL;VALUE=DURATION:PT1H
X-Robots-Tag:noindex
X-PUBLISHED-TTL:PT1H
BEGIN:VTIMEZONE
TZID:America/Los_Angeles
BEGIN:DAYLIGHT
TZOFFSETFROM:-0800
TZOFFSETTO:-0700
TZNAME:PDT
DTSTART:20250309T100000
END:DAYLIGHT
BEGIN:STANDARD
TZOFFSETFROM:-0700
TZOFFSETTO:-0800
TZNAME:PST
DTSTART:20251102T090000
END:STANDARD
BEGIN:DAYLIGHT
TZOFFSETFROM:-0800
TZOFFSETTO:-0700
TZNAME:PDT
DTSTART:20260308T100000
END:DAYLIGHT
BEGIN:STANDARD
TZOFFSETFROM:-0700
TZOFFSETTO:-0800
TZNAME:PST
DTSTART:20261101T090000
END:STANDARD
BEGIN:DAYLIGHT
TZOFFSETFROM:-0800
TZOFFSETTO:-0700
TZNAME:PDT
DTSTART:20270314T100000
END:DAYLIGHT
BEGIN:STANDARD
TZOFFSETFROM:-0700
TZOFFSETTO:-0800
TZNAME:PST
DTSTART:20271107T090000
END:STANDARD
END:VTIMEZONE
BEGIN:VEVENT
DTSTART;TZID=America/Los_Angeles:20260525T060000
DTEND;TZID=America/Los_Angeles:20260528T170000
DTSTAMP:20260420T021951
CREATED:20260327T151612Z
LAST-MODIFIED:20260327T151645Z
UID:3330-1779688800-1779987600@eaglespringsgcc.com
SUMMARY:Memorial Day Holiday Rate
DESCRIPTION:Holiday Rate
URL:https://eaglespringsgcc.com/event/memorial-day-holiday-rate-2026/
LOCATION:Eagle Springs Golf Course & Country Club\, 21722 Fairway Oaks Lane\, Friant\, CA\, 93626\, United States
CATEGORIES:ESGCC Specials
END:VEVENT
END:VCALENDAR