BEGIN:VCALENDAR
VERSION:2.0
PRODID:-//Eagle Springs GCC - Pro Shop - ECPv6.15.20//NONSGML v1.0//EN
CALSCALE:GREGORIAN
METHOD:PUBLISH
X-WR-CALNAME:Eagle Springs GCC - Pro Shop
X-ORIGINAL-URL:https://eaglespringsgcc.com
X-WR-CALDESC:Events for Eagle Springs GCC - Pro Shop
REFRESH-INTERVAL;VALUE=DURATION:PT1H
X-Robots-Tag:noindex
X-PUBLISHED-TTL:PT1H
BEGIN:VTIMEZONE
TZID:America/Los_Angeles
BEGIN:DAYLIGHT
TZOFFSETFROM:-0800
TZOFFSETTO:-0700
TZNAME:PDT
DTSTART:20230312T100000
END:DAYLIGHT
BEGIN:STANDARD
TZOFFSETFROM:-0700
TZOFFSETTO:-0800
TZNAME:PST
DTSTART:20231105T090000
END:STANDARD
BEGIN:DAYLIGHT
TZOFFSETFROM:-0800
TZOFFSETTO:-0700
TZNAME:PDT
DTSTART:20240310T100000
END:DAYLIGHT
BEGIN:STANDARD
TZOFFSETFROM:-0700
TZOFFSETTO:-0800
TZNAME:PST
DTSTART:20241103T090000
END:STANDARD
BEGIN:DAYLIGHT
TZOFFSETFROM:-0800
TZOFFSETTO:-0700
TZNAME:PDT
DTSTART:20250309T100000
END:DAYLIGHT
BEGIN:STANDARD
TZOFFSETFROM:-0700
TZOFFSETTO:-0800
TZNAME:PST
DTSTART:20251102T090000
END:STANDARD
END:VTIMEZONE
BEGIN:VEVENT
DTSTART;VALUE=DATE:20240927
DTEND;VALUE=DATE:20240928
DTSTAMP:20260420T022658
CREATED:20240803T201415Z
LAST-MODIFIED:20240803T201415Z
UID:2514-1727395200-1727481599@eaglespringsgcc.com
SUMMARY:UHC Foundation Tournament
DESCRIPTION:
URL:https://eaglespringsgcc.com/event/uhc-foundation-tournament/
LOCATION:CA
END:VEVENT
BEGIN:VEVENT
DTSTART;VALUE=DATE:20240922
DTEND;VALUE=DATE:20240923
DTSTAMP:20260420T022658
CREATED:20240803T201342Z
LAST-MODIFIED:20240803T201342Z
UID:2512-1726963200-1727049599@eaglespringsgcc.com
SUMMARY:Cen Cal Nikkei Tournament
DESCRIPTION:
URL:https://eaglespringsgcc.com/event/cen-cal-nikkei-tournament/
LOCATION:CA
END:VEVENT
BEGIN:VEVENT
DTSTART;VALUE=DATE:20240919
DTEND;VALUE=DATE:20240922
DTSTAMP:20260420T022658
CREATED:20240803T200703Z
LAST-MODIFIED:20240803T202519Z
UID:2504-1726704000-1726963199@eaglespringsgcc.com
SUMMARY:Mens Classic
DESCRIPTION:24 Classic Sponsor Letter \n  \n24 Classic Entry Form \n  \n 
URL:https://eaglespringsgcc.com/event/mens-classic/
LOCATION:CA
ATTACH;FMTTYPE=application/pdf:https://eaglespringsgcc.com/wp-content/uploads/2024/08/24-Classic-Entry-Form-1.pdf
END:VEVENT
BEGIN:VEVENT
DTSTART;VALUE=DATE:20240914
DTEND;VALUE=DATE:20240915
DTSTAMP:20260420T022658
CREATED:20240803T201119Z
LAST-MODIFIED:20240803T201238Z
UID:2507-1726272000-1726358399@eaglespringsgcc.com
SUMMARY:Gavin Gladding Tournament
DESCRIPTION:
URL:https://eaglespringsgcc.com/event/clovis-pd-tournament-2/
LOCATION:CA
END:VEVENT
BEGIN:VEVENT
DTSTART;VALUE=DATE:20240913
DTEND;VALUE=DATE:20240914
DTSTAMP:20260420T022658
CREATED:20240803T201312Z
LAST-MODIFIED:20240803T201312Z
UID:2510-1726185600-1726271999@eaglespringsgcc.com
SUMMARY:Clovis PD Tournament
DESCRIPTION:
URL:https://eaglespringsgcc.com/event/clovis-pd-tournament-3/
LOCATION:CA
END:VEVENT
BEGIN:VEVENT
DTSTART;TZID=America/Los_Angeles:20240817T180000
DTEND;TZID=America/Los_Angeles:20240817T220000
DTSTAMP:20260420T022658
CREATED:20240718T203834Z
LAST-MODIFIED:20240718T204105Z
UID:2480-1723917600-1723932000@eaglespringsgcc.com
SUMMARY:Wine Walk
DESCRIPTION:
URL:https://eaglespringsgcc.com/event/wine-walk/
LOCATION:CA
END:VEVENT
BEGIN:VEVENT
DTSTART;TZID=America/Los_Angeles:20240404T150000
DTEND;TZID=America/Los_Angeles:20240404T170000
DTSTAMP:20260420T022658
CREATED:20240325T184336Z
LAST-MODIFIED:20240325T184336Z
UID:2305-1712242800-1712250000@eaglespringsgcc.com
SUMMARY:Thursday Night Scramble
DESCRIPTION:
URL:https://eaglespringsgcc.com/event/thursday-night-scramble/
LOCATION:CA
END:VEVENT
BEGIN:VEVENT
DTSTART;TZID=America/Los_Angeles:20240404T150000
DTEND;TZID=America/Los_Angeles:20240404T170000
DTSTAMP:20260420T022658
CREATED:20240325T184336Z
LAST-MODIFIED:20240325T184336Z
UID:2305-1712242800-1712250000@eaglespringsgcc.com
SUMMARY:Thursday Night Scramble
DESCRIPTION:
URL:https://eaglespringsgcc.com/event/thursday-night-scramble/
LOCATION:CA
END:VEVENT
BEGIN:VEVENT
DTSTART;TZID=America/Los_Angeles:20240404T150000
DTEND;TZID=America/Los_Angeles:20240404T170000
DTSTAMP:20260420T022658
CREATED:20240325T184336Z
LAST-MODIFIED:20240325T184336Z
UID:2305-1712242800-1712250000@eaglespringsgcc.com
SUMMARY:Thursday Night Scramble
DESCRIPTION:
URL:https://eaglespringsgcc.com/event/thursday-night-scramble/
LOCATION:CA
END:VEVENT
BEGIN:VEVENT
DTSTART;TZID=America/Los_Angeles:20240727T090000
DTEND;TZID=America/Los_Angeles:20240727T130000
DTSTAMP:20260420T022658
CREATED:20240620T212520Z
LAST-MODIFIED:20240621T183805Z
UID:2458-1722070800-1722085200@eaglespringsgcc.com
SUMMARY:Classics on the Course; Car\, Truck & Motorcycle Show
DESCRIPTION:  \nDownload Registration Form Below: \nESGCCcarshowREG \n 
URL:https://eaglespringsgcc.com/event/classics-on-the-course-cartruck-show/
LOCATION:CA
END:VEVENT
BEGIN:VEVENT
DTSTART;TZID=America/Los_Angeles:20240404T150000
DTEND;TZID=America/Los_Angeles:20240404T170000
DTSTAMP:20260420T022658
CREATED:20240325T184336Z
LAST-MODIFIED:20240325T184336Z
UID:2305-1712242800-1712250000@eaglespringsgcc.com
SUMMARY:Thursday Night Scramble
DESCRIPTION:
URL:https://eaglespringsgcc.com/event/thursday-night-scramble/
LOCATION:CA
END:VEVENT
BEGIN:VEVENT
DTSTART;TZID=America/Los_Angeles:20240404T150000
DTEND;TZID=America/Los_Angeles:20240404T170000
DTSTAMP:20260420T022658
CREATED:20240325T184336Z
LAST-MODIFIED:20240325T184336Z
UID:2305-1712242800-1712250000@eaglespringsgcc.com
SUMMARY:Thursday Night Scramble
DESCRIPTION:
URL:https://eaglespringsgcc.com/event/thursday-night-scramble/
LOCATION:CA
END:VEVENT
BEGIN:VEVENT
DTSTART;TZID=America/Los_Angeles:20240404T150000
DTEND;TZID=America/Los_Angeles:20240404T170000
DTSTAMP:20260420T022658
CREATED:20240325T184336Z
LAST-MODIFIED:20240325T184336Z
UID:2305-1712242800-1712250000@eaglespringsgcc.com
SUMMARY:Thursday Night Scramble
DESCRIPTION:
URL:https://eaglespringsgcc.com/event/thursday-night-scramble/
LOCATION:CA
END:VEVENT
BEGIN:VEVENT
DTSTART;TZID=America/Los_Angeles:20240404T150000
DTEND;TZID=America/Los_Angeles:20240404T170000
DTSTAMP:20260420T022658
CREATED:20240325T184336Z
LAST-MODIFIED:20240325T184336Z
UID:2305-1712242800-1712250000@eaglespringsgcc.com
SUMMARY:Thursday Night Scramble
DESCRIPTION:
URL:https://eaglespringsgcc.com/event/thursday-night-scramble/
LOCATION:CA
END:VEVENT
BEGIN:VEVENT
DTSTART;TZID=America/Los_Angeles:20240404T150000
DTEND;TZID=America/Los_Angeles:20240404T170000
DTSTAMP:20260420T022658
CREATED:20240325T184336Z
LAST-MODIFIED:20240325T184336Z
UID:2305-1712242800-1712250000@eaglespringsgcc.com
SUMMARY:Thursday Night Scramble
DESCRIPTION:
URL:https://eaglespringsgcc.com/event/thursday-night-scramble/
LOCATION:CA
END:VEVENT
BEGIN:VEVENT
DTSTART;TZID=America/Los_Angeles:20240404T150000
DTEND;TZID=America/Los_Angeles:20240404T170000
DTSTAMP:20260420T022658
CREATED:20240325T184336Z
LAST-MODIFIED:20240325T184336Z
UID:2305-1712242800-1712250000@eaglespringsgcc.com
SUMMARY:Thursday Night Scramble
DESCRIPTION:
URL:https://eaglespringsgcc.com/event/thursday-night-scramble/
LOCATION:CA
END:VEVENT
BEGIN:VEVENT
DTSTART;TZID=America/Los_Angeles:20240404T150000
DTEND;TZID=America/Los_Angeles:20240404T170000
DTSTAMP:20260420T022658
CREATED:20240325T184336Z
LAST-MODIFIED:20240325T184336Z
UID:2305-1712242800-1712250000@eaglespringsgcc.com
SUMMARY:Thursday Night Scramble
DESCRIPTION:
URL:https://eaglespringsgcc.com/event/thursday-night-scramble/
LOCATION:CA
END:VEVENT
BEGIN:VEVENT
DTSTART;VALUE=DATE:20240607
DTEND;VALUE=DATE:20240608
DTSTAMP:20260420T022658
CREATED:20240408T142219Z
LAST-MODIFIED:20240408T142402Z
UID:2370-1717718400-1717804799@eaglespringsgcc.com
SUMMARY:Bogies Golf Tournament
DESCRIPTION:
URL:https://eaglespringsgcc.com/event/tee-off-for-mental-health/
LOCATION:CA
END:VEVENT
BEGIN:VEVENT
DTSTART;TZID=America/Los_Angeles:20240404T150000
DTEND;TZID=America/Los_Angeles:20240404T170000
DTSTAMP:20260420T022658
CREATED:20240325T184336Z
LAST-MODIFIED:20240325T184336Z
UID:2305-1712242800-1712250000@eaglespringsgcc.com
SUMMARY:Thursday Night Scramble
DESCRIPTION:
URL:https://eaglespringsgcc.com/event/thursday-night-scramble/
LOCATION:CA
END:VEVENT
BEGIN:VEVENT
DTSTART;TZID=America/Los_Angeles:20240404T150000
DTEND;TZID=America/Los_Angeles:20240404T170000
DTSTAMP:20260420T022658
CREATED:20240325T184336Z
LAST-MODIFIED:20240325T184336Z
UID:2305-1712242800-1712250000@eaglespringsgcc.com
SUMMARY:Thursday Night Scramble
DESCRIPTION:
URL:https://eaglespringsgcc.com/event/thursday-night-scramble/
LOCATION:CA
END:VEVENT
BEGIN:VEVENT
DTSTART;TZID=America/Los_Angeles:20240404T150000
DTEND;TZID=America/Los_Angeles:20240404T170000
DTSTAMP:20260420T022658
CREATED:20240325T184336Z
LAST-MODIFIED:20240325T184336Z
UID:2305-1712242800-1712250000@eaglespringsgcc.com
SUMMARY:Thursday Night Scramble
DESCRIPTION:
URL:https://eaglespringsgcc.com/event/thursday-night-scramble/
LOCATION:CA
END:VEVENT
BEGIN:VEVENT
DTSTART;VALUE=DATE:20240517
DTEND;VALUE=DATE:20240518
DTSTAMP:20260420T022658
CREATED:20240408T142615Z
LAST-MODIFIED:20240408T142623Z
UID:2373-1715904000-1715990399@eaglespringsgcc.com
SUMMARY:Tee Off for Mental Health
DESCRIPTION:
URL:https://eaglespringsgcc.com/event/tee-off-for-mental-health-2/
LOCATION:CA
END:VEVENT
BEGIN:VEVENT
DTSTART;TZID=America/Los_Angeles:20240404T150000
DTEND;TZID=America/Los_Angeles:20240404T170000
DTSTAMP:20260420T022658
CREATED:20240325T184336Z
LAST-MODIFIED:20240325T184336Z
UID:2305-1712242800-1712250000@eaglespringsgcc.com
SUMMARY:Thursday Night Scramble
DESCRIPTION:
URL:https://eaglespringsgcc.com/event/thursday-night-scramble/
LOCATION:CA
END:VEVENT
BEGIN:VEVENT
DTSTART;TZID=America/Los_Angeles:20240404T150000
DTEND;TZID=America/Los_Angeles:20240404T170000
DTSTAMP:20260420T022658
CREATED:20240325T184336Z
LAST-MODIFIED:20240325T184336Z
UID:2305-1712242800-1712250000@eaglespringsgcc.com
SUMMARY:Thursday Night Scramble
DESCRIPTION:
URL:https://eaglespringsgcc.com/event/thursday-night-scramble/
LOCATION:CA
END:VEVENT
BEGIN:VEVENT
DTSTART;VALUE=DATE:20240509
DTEND;VALUE=DATE:20240510
DTSTAMP:20260420T022658
CREATED:20240325T191852Z
LAST-MODIFIED:20240325T194737Z
UID:2331-1715212800-1715299199@eaglespringsgcc.com
SUMMARY:Hall of Fame Tournament
DESCRIPTION:
URL:https://eaglespringsgcc.com/event/ladies-invitational/
LOCATION:CA
END:VEVENT
BEGIN:VEVENT
DTSTART;VALUE=DATE:20240504
DTEND;VALUE=DATE:20240505
DTSTAMP:20260420T022658
CREATED:20240408T141810Z
LAST-MODIFIED:20240408T141810Z
UID:2367-1714780800-1714867199@eaglespringsgcc.com
SUMMARY:Women's Invitational
DESCRIPTION:
URL:https://eaglespringsgcc.com/event/womens-invitational/
LOCATION:CA
END:VEVENT
BEGIN:VEVENT
DTSTART;VALUE=DATE:20240503
DTEND;VALUE=DATE:20240504
DTSTAMP:20260420T022658
CREATED:20240325T191813Z
LAST-MODIFIED:20240325T191813Z
UID:2329-1714694400-1714780799@eaglespringsgcc.com
SUMMARY:Gaming Commission
DESCRIPTION:
URL:https://eaglespringsgcc.com/event/gaming-commission/
LOCATION:CA
END:VEVENT
BEGIN:VEVENT
DTSTART;TZID=America/Los_Angeles:20240404T150000
DTEND;TZID=America/Los_Angeles:20240404T170000
DTSTAMP:20260420T022658
CREATED:20240325T184336Z
LAST-MODIFIED:20240325T184336Z
UID:2305-1712242800-1712250000@eaglespringsgcc.com
SUMMARY:Thursday Night Scramble
DESCRIPTION:
URL:https://eaglespringsgcc.com/event/thursday-night-scramble/
LOCATION:CA
END:VEVENT
BEGIN:VEVENT
DTSTART;TZID=America/Los_Angeles:20240404T150000
DTEND;TZID=America/Los_Angeles:20240404T170000
DTSTAMP:20260420T022658
CREATED:20240325T184336Z
LAST-MODIFIED:20240325T184336Z
UID:2305-1712242800-1712250000@eaglespringsgcc.com
SUMMARY:Thursday Night Scramble
DESCRIPTION:
URL:https://eaglespringsgcc.com/event/thursday-night-scramble/
LOCATION:CA
END:VEVENT
BEGIN:VEVENT
DTSTART;TZID=America/Los_Angeles:20240424T080000
DTEND;TZID=America/Los_Angeles:20240424T170000
DTSTAMP:20260420T022658
CREATED:20240408T142859Z
LAST-MODIFIED:20240408T142859Z
UID:2375-1713945600-1713978000@eaglespringsgcc.com
SUMMARY:C.A.R.T. Golf Tournament
DESCRIPTION:
URL:https://eaglespringsgcc.com/event/c-a-r-t-golf-tournament/
LOCATION:CA
END:VEVENT
END:VCALENDAR