BEGIN:VCALENDAR
VERSION:2.0
PRODID:-//Eagle Springs GCC - Pro Shop - ECPv6.15.20//NONSGML v1.0//EN
CALSCALE:GREGORIAN
METHOD:PUBLISH
X-WR-CALNAME:Eagle Springs GCC - Pro Shop
X-ORIGINAL-URL:https://eaglespringsgcc.com
X-WR-CALDESC:Events for Eagle Springs GCC - Pro Shop
REFRESH-INTERVAL;VALUE=DURATION:PT1H
X-Robots-Tag:noindex
X-PUBLISHED-TTL:PT1H
BEGIN:VTIMEZONE
TZID:America/Los_Angeles
BEGIN:DAYLIGHT
TZOFFSETFROM:-0800
TZOFFSETTO:-0700
TZNAME:PDT
DTSTART:20240310T100000
END:DAYLIGHT
BEGIN:STANDARD
TZOFFSETFROM:-0700
TZOFFSETTO:-0800
TZNAME:PST
DTSTART:20241103T090000
END:STANDARD
BEGIN:DAYLIGHT
TZOFFSETFROM:-0800
TZOFFSETTO:-0700
TZNAME:PDT
DTSTART:20250309T100000
END:DAYLIGHT
BEGIN:STANDARD
TZOFFSETFROM:-0700
TZOFFSETTO:-0800
TZNAME:PST
DTSTART:20251102T090000
END:STANDARD
BEGIN:DAYLIGHT
TZOFFSETFROM:-0800
TZOFFSETTO:-0700
TZNAME:PDT
DTSTART:20260308T100000
END:DAYLIGHT
BEGIN:STANDARD
TZOFFSETFROM:-0700
TZOFFSETTO:-0800
TZNAME:PST
DTSTART:20261101T090000
END:STANDARD
END:VTIMEZONE
BEGIN:VEVENT
DTSTART;VALUE=DATE:20251128
DTEND;VALUE=DATE:20251129
DTSTAMP:20260421T050534
CREATED:20250917T195923Z
LAST-MODIFIED:20250917T195923Z
UID:3126-1764288000-1764374399@eaglespringsgcc.com
SUMMARY:Black Friday
DESCRIPTION:9:00 AM Tee Time
URL:https://eaglespringsgcc.com/event/black-friday/
LOCATION:Eagle Springs Golf Course & Country Club\, 21722 Fairway Oaks Lane\, Friant\, CA\, 93626\, United States
END:VEVENT
BEGIN:VEVENT
DTSTART;VALUE=DATE:20251127
DTEND;VALUE=DATE:20251128
DTSTAMP:20260421T050534
CREATED:20250917T195843Z
LAST-MODIFIED:20250917T195939Z
UID:3124-1764201600-1764287999@eaglespringsgcc.com
SUMMARY:Thanksgiving
DESCRIPTION:
URL:https://eaglespringsgcc.com/event/thanksgiving/
LOCATION:CA
END:VEVENT
BEGIN:VEVENT
DTSTART;VALUE=DATE:20251122
DTEND;VALUE=DATE:20251123
DTSTAMP:20260421T050534
CREATED:20250917T195823Z
LAST-MODIFIED:20250917T195823Z
UID:3122-1763769600-1763855999@eaglespringsgcc.com
SUMMARY:Men's Club
DESCRIPTION:
URL:https://eaglespringsgcc.com/event/mens-club-5/
LOCATION:Eagle Springs Golf Course & Country Club\, 21722 Fairway Oaks Lane\, Friant\, CA\, 93626\, United States
END:VEVENT
BEGIN:VEVENT
DTSTART;VALUE=DATE:20251102
DTEND;VALUE=DATE:20251103
DTSTAMP:20260421T050534
CREATED:20250917T195722Z
LAST-MODIFIED:20250917T195733Z
UID:3119-1762041600-1762127999@eaglespringsgcc.com
SUMMARY:Men's Club
DESCRIPTION:
URL:https://eaglespringsgcc.com/event/mens-club-4/
LOCATION:Eagle Springs Golf Course & Country Club\, 21722 Fairway Oaks Lane\, Friant\, CA\, 93626\, United States
END:VEVENT
BEGIN:VEVENT
DTSTART;VALUE=DATE:20251101
DTEND;VALUE=DATE:20251102
DTSTAMP:20260421T050534
CREATED:20250917T195659Z
LAST-MODIFIED:20250917T195752Z
UID:3117-1761955200-1762041599@eaglespringsgcc.com
SUMMARY:Dist. 6
DESCRIPTION:
URL:https://eaglespringsgcc.com/event/dist-6/
LOCATION:Eagle Springs Golf Course & Country Club\, 21722 Fairway Oaks Lane\, Friant\, CA\, 93626\, United States
END:VEVENT
BEGIN:VEVENT
DTSTART;VALUE=DATE:20251031
DTEND;VALUE=DATE:20251101
DTSTAMP:20260421T050534
CREATED:20250917T200356Z
LAST-MODIFIED:20250917T200356Z
UID:3147-1761868800-1761955199@eaglespringsgcc.com
SUMMARY:Halloween
DESCRIPTION:
URL:https://eaglespringsgcc.com/event/halloween/
LOCATION:Eagle Springs Golf Course & Country Club\, 21722 Fairway Oaks Lane\, Friant\, CA\, 93626\, United States
END:VEVENT
BEGIN:VEVENT
DTSTART;VALUE=DATE:20251025
DTEND;VALUE=DATE:20251026
DTSTAMP:20260421T050534
CREATED:20250917T200255Z
LAST-MODIFIED:20250917T200255Z
UID:3143-1761350400-1761436799@eaglespringsgcc.com
SUMMARY:Clovis Softball
DESCRIPTION:
URL:https://eaglespringsgcc.com/event/clovis-softball-2/
LOCATION:Eagle Springs Golf Course & Country Club\, 21722 Fairway Oaks Lane\, Friant\, CA\, 93626\, United States
END:VEVENT
BEGIN:VEVENT
DTSTART;VALUE=DATE:20251024
DTEND;VALUE=DATE:20251025
DTSTAMP:20260421T050534
CREATED:20250917T200224Z
LAST-MODIFIED:20250917T200224Z
UID:3141-1761264000-1761350399@eaglespringsgcc.com
SUMMARY:FDSA
DESCRIPTION:
URL:https://eaglespringsgcc.com/event/fdsa/
LOCATION:Eagle Springs Golf Course & Country Club\, 21722 Fairway Oaks Lane\, Friant\, CA\, 93626\, United States
END:VEVENT
BEGIN:VEVENT
DTSTART;VALUE=DATE:20251017
DTEND;VALUE=DATE:20251018
DTSTAMP:20260421T050534
CREATED:20250917T200140Z
LAST-MODIFIED:20250917T200140Z
UID:3137-1760659200-1760745599@eaglespringsgcc.com
SUMMARY:TMCR VIP
DESCRIPTION:
URL:https://eaglespringsgcc.com/event/tmcr-vip/
LOCATION:Eagle Springs Golf Course & Country Club\, 21722 Fairway Oaks Lane\, Friant\, CA\, 93626\, United States
END:VEVENT
BEGIN:VEVENT
DTSTART;VALUE=DATE:20251010
DTEND;VALUE=DATE:20251011
DTSTAMP:20260421T050534
CREATED:20250917T200051Z
LAST-MODIFIED:20250917T200051Z
UID:3133-1760054400-1760140799@eaglespringsgcc.com
SUMMARY:Hot Pink
DESCRIPTION:
URL:https://eaglespringsgcc.com/event/hot-pink/
LOCATION:Eagle Springs Golf Course & Country Club\, 21722 Fairway Oaks Lane\, Friant\, CA\, 93626\, United States
END:VEVENT
BEGIN:VEVENT
DTSTART;VALUE=DATE:20251004
DTEND;VALUE=DATE:20251005
DTSTAMP:20260421T050534
CREATED:20250917T200002Z
LAST-MODIFIED:20250917T200002Z
UID:3129-1759536000-1759622399@eaglespringsgcc.com
SUMMARY:Ray Jones
DESCRIPTION:
URL:https://eaglespringsgcc.com/event/ray-jones/
LOCATION:Eagle Springs Golf Course & Country Club\, 21722 Fairway Oaks Lane\, Friant\, CA\, 93626\, United States
END:VEVENT
BEGIN:VEVENT
DTSTART;VALUE=DATE:20250928
DTEND;VALUE=DATE:20250929
DTSTAMP:20260421T050534
CREATED:20250917T142120Z
LAST-MODIFIED:20250917T142120Z
UID:3099-1759017600-1759103999@eaglespringsgcc.com
SUMMARY:Cen Cal Nikkei Tournament
DESCRIPTION:
URL:https://eaglespringsgcc.com/event/cen-cal-nikkei-tournament-2/
LOCATION:Eagle Springs Golf Course & Country Club\, 21722 Fairway Oaks Lane\, Friant\, CA\, 93626\, United States
END:VEVENT
BEGIN:VEVENT
DTSTART;VALUE=DATE:20250926
DTEND;VALUE=DATE:20250927
DTSTAMP:20260421T050534
CREATED:20250917T142005Z
LAST-MODIFIED:20250917T142554Z
UID:3097-1758844800-1758931199@eaglespringsgcc.com
SUMMARY:UHC
DESCRIPTION:
URL:https://eaglespringsgcc.com/event/uhc/
LOCATION:Eagle Springs Golf Course & Country Club\, 21722 Fairway Oaks Lane\, Friant\, CA\, 93626\, United States
END:VEVENT
BEGIN:VEVENT
DTSTART;VALUE=DATE:20250925
DTEND;VALUE=DATE:20250926
DTSTAMP:20260421T050534
CREATED:20250917T141736Z
LAST-MODIFIED:20250917T141937Z
UID:3093-1758758400-1758844799@eaglespringsgcc.com
SUMMARY:SIRS 159
DESCRIPTION:
URL:https://eaglespringsgcc.com/event/srs-159/
LOCATION:CA
END:VEVENT
BEGIN:VEVENT
DTSTART;VALUE=DATE:20250924
DTEND;VALUE=DATE:20250925
DTSTAMP:20260421T050534
CREATED:20250917T141632Z
LAST-MODIFIED:20250917T195545Z
UID:3091-1758672000-1758758399@eaglespringsgcc.com
SUMMARY:KGA
DESCRIPTION:11 AM Tee Time \n40 Players
URL:https://eaglespringsgcc.com/event/kga/
LOCATION:Eagle Springs Golf Course & Country Club\, 21722 Fairway Oaks Lane\, Friant\, CA\, 93626\, United States
END:VEVENT
BEGIN:VEVENT
DTSTART;VALUE=DATE:20250913
DTEND;VALUE=DATE:20250914
DTSTAMP:20260421T050534
CREATED:20250917T141438Z
LAST-MODIFIED:20250917T195551Z
UID:3089-1757721600-1757807999@eaglespringsgcc.com
SUMMARY:Galvin Gladding
DESCRIPTION:10am shotgun start time
URL:https://eaglespringsgcc.com/event/galvin-gladding/
LOCATION:Eagle Springs Golf Course & Country Club\, 21722 Fairway Oaks Lane\, Friant\, CA\, 93626\, United States
END:VEVENT
BEGIN:VEVENT
DTSTART;VALUE=DATE:20250912
DTEND;VALUE=DATE:20250913
DTSTAMP:20260421T050534
CREATED:20250917T141409Z
LAST-MODIFIED:20250917T195559Z
UID:3087-1757635200-1757721599@eaglespringsgcc.com
SUMMARY:Clovis PD
DESCRIPTION:9AM shotgun start time
URL:https://eaglespringsgcc.com/event/clovis-pd/
LOCATION:Eagle Springs Golf Course & Country Club\, 21722 Fairway Oaks Lane\, Friant\, CA\, 93626\, United States
END:VEVENT
BEGIN:VEVENT
DTSTART;VALUE=DATE:20250911
DTEND;VALUE=DATE:20250912
DTSTAMP:20260421T050534
CREATED:20250917T141326Z
LAST-MODIFIED:20250917T195604Z
UID:3085-1757548800-1757635199@eaglespringsgcc.com
SUMMARY:Tee Off for Tiny Heroes
DESCRIPTION:9AM shotgun start time \n120 Players \n 
URL:https://eaglespringsgcc.com/event/tee-off-for-tiny-heroes/
LOCATION:Eagle Springs Golf Course & Country Club\, 21722 Fairway Oaks Lane\, Friant\, CA\, 93626\, United States
END:VEVENT
BEGIN:VEVENT
DTSTART;VALUE=DATE:20250910
DTEND;VALUE=DATE:20250911
DTSTAMP:20260421T050534
CREATED:20250917T140801Z
LAST-MODIFIED:20250917T195614Z
UID:3083-1757462400-1757548799@eaglespringsgcc.com
SUMMARY:Sierra Girls
DESCRIPTION:
URL:https://eaglespringsgcc.com/event/sierra-girls/
LOCATION:Eagle Springs Golf Course & Country Club\, 21722 Fairway Oaks Lane\, Friant\, CA\, 93626\, United States
END:VEVENT
BEGIN:VEVENT
DTSTART;VALUE=DATE:20250907
DTEND;VALUE=DATE:20250908
DTSTAMP:20260421T050534
CREATED:20250917T140723Z
LAST-MODIFIED:20250917T140723Z
UID:3081-1757203200-1757289599@eaglespringsgcc.com
SUMMARY:Men's Club
DESCRIPTION:
URL:https://eaglespringsgcc.com/event/mens-club-3/
LOCATION:Eagle Springs Golf Course & Country Club\, 21722 Fairway Oaks Lane\, Friant\, CA\, 93626\, United States
END:VEVENT
BEGIN:VEVENT
DTSTART;VALUE=DATE:20250905
DTEND;VALUE=DATE:20250908
DTSTAMP:20260421T050534
CREATED:20250917T140648Z
LAST-MODIFIED:20250917T195630Z
UID:3079-1757030400-1757289599@eaglespringsgcc.com
SUMMARY:Table Mountain Rancheria 22nd Annual Pow-Wow
DESCRIPTION:September 5-7\, 2025\nHonoring Beverly J. Hunter \nAll are Welcome!
URL:https://eaglespringsgcc.com/event/table-mountain-rancheria-22nd-annual-pow-wow/
LOCATION:CA
END:VEVENT
BEGIN:VEVENT
DTSTART;VALUE=DATE:20250901
DTEND;VALUE=DATE:20250902
DTSTAMP:20260421T050534
CREATED:20250917T140456Z
LAST-MODIFIED:20250917T140456Z
UID:3077-1756684800-1756771199@eaglespringsgcc.com
SUMMARY:Labor Day!
DESCRIPTION:
URL:https://eaglespringsgcc.com/event/labor-day/
LOCATION:CA
END:VEVENT
BEGIN:VEVENT
DTSTART;TZID=America/Los_Angeles:20250622T090000
DTEND;TZID=America/Los_Angeles:20250622T100000
DTSTAMP:20260421T050534
CREATED:20250405T200613Z
LAST-MODIFIED:20250405T200613Z
UID:2835-1750582800-1750586400@eaglespringsgcc.com
SUMMARY:Cory Bender
DESCRIPTION:Tee Times will be unavailable from 9am – 10am. \n 
URL:https://eaglespringsgcc.com/event/cory-bender/
LOCATION:Eagle Springs Golf Course & Country Club\, 21722 Fairway Oaks Lane\, Friant\, CA\, 93626\, United States
END:VEVENT
BEGIN:VEVENT
DTSTART;TZID=America/Los_Angeles:20250621T080000
DTEND;TZID=America/Los_Angeles:20250621T103000
DTSTAMP:20260421T050534
CREATED:20250405T200453Z
LAST-MODIFIED:20250405T200453Z
UID:2833-1750492800-1750501800@eaglespringsgcc.com
SUMMARY:Men's Club
DESCRIPTION:⛳️ Eagle Springs Men’s Club – 2-Man Schamble’ \n\n⏰ Start Time: 8am Shotgun💵 Entry Fee: $50 plus $25 side pots. \n👬 Make Your Own Foursome \nPlease contact Jayson Ray or the Pro Shop with any questions
URL:https://eaglespringsgcc.com/event/mens-club-2/
LOCATION:Eagle Springs Golf Course & Country Club\, 21722 Fairway Oaks Lane\, Friant\, CA\, 93626\, United States
END:VEVENT
BEGIN:VEVENT
DTSTART;TZID=America/Los_Angeles:20250612T090000
DTEND;TZID=America/Los_Angeles:20250612T103000
DTSTAMP:20260421T050534
CREATED:20250405T195930Z
LAST-MODIFIED:20250405T195930Z
UID:2831-1749718800-1749724200@eaglespringsgcc.com
SUMMARY:Sirs 169
DESCRIPTION:Tee times will be unavailable from 9am – 10:30am. \nContact the Pro Shop with any questions.
URL:https://eaglespringsgcc.com/event/sirs-169-2/
LOCATION:Eagle Springs Golf Course & Country Club\, 21722 Fairway Oaks Lane\, Friant\, CA\, 93626\, United States
END:VEVENT
BEGIN:VEVENT
DTSTART;TZID=America/Los_Angeles:20250607T090000
DTEND;TZID=America/Los_Angeles:20250607T110000
DTSTAMP:20260421T050534
CREATED:20250405T195720Z
LAST-MODIFIED:20250405T195759Z
UID:2829-1749286800-1749294000@eaglespringsgcc.com
SUMMARY:Men's Club
DESCRIPTION:🏌️‍♂️ Eagle Springs Men’s Club – 2-Man Best Ball Qualifier 🏌️‍♂️Think you’ve got the game? Prove it with a partner. \nJoin us for our 2-Man Best Ball Qualifier\, where teamwork meets competition at its finest. Grab a partner\, bring your A-game\, and battle it out for a spot at the top! \n⏰ Tee Times Start: 9 am tee times 💰 Entry Fee: $25 \nContact Jayson Ray or the Pro Shop for information and sign up. \n⛳️ Good golf\, good times\, great competition.
URL:https://eaglespringsgcc.com/event/mens-club/
LOCATION:Eagle Springs Golf Course & Country Club\, 21722 Fairway Oaks Lane\, Friant\, CA\, 93626\, United States
END:VEVENT
BEGIN:VEVENT
DTSTART;VALUE=DATE:20250530
DTEND;VALUE=DATE:20250531
DTSTAMP:20260421T050534
CREATED:20250405T194453Z
LAST-MODIFIED:20250405T194534Z
UID:2825-1748563200-1748649599@eaglespringsgcc.com
SUMMARY:Bogies Tournament
DESCRIPTION:The course will be closed this day. \nPlease contact the responsible party for information.
URL:https://eaglespringsgcc.com/event/bogies-tournament/
LOCATION:Eagle Springs Golf Course & Country Club\, 21722 Fairway Oaks Lane\, Friant\, CA\, 93626\, United States
END:VEVENT
BEGIN:VEVENT
DTSTART;VALUE=DATE:20250524
DTEND;VALUE=DATE:20250525
DTSTAMP:20260421T050534
CREATED:20250405T194310Z
LAST-MODIFIED:20250405T194310Z
UID:2823-1748044800-1748131199@eaglespringsgcc.com
SUMMARY:AP. Athletic
DESCRIPTION:The course will be closed this day. \nPlease contact the responsible party for any information pertaining to the tournament. \n 
URL:https://eaglespringsgcc.com/event/ap-athletic/
LOCATION:Eagle Springs Golf Course & Country Club\, 21722 Fairway Oaks Lane\, Friant\, CA\, 93626\, United States
END:VEVENT
BEGIN:VEVENT
DTSTART;VALUE=DATE:20250523
DTEND;VALUE=DATE:20250524
DTSTAMP:20260421T050534
CREATED:20250405T194125Z
LAST-MODIFIED:20250405T194125Z
UID:2821-1747958400-1748044799@eaglespringsgcc.com
SUMMARY:Cart Tournament
DESCRIPTION:The course will be closed this day for a private event. \nPlease contact the responsible party for information involving the tournament.
URL:https://eaglespringsgcc.com/event/cart-tournament/
LOCATION:Eagle Springs Golf Course & Country Club\, 21722 Fairway Oaks Lane\, Friant\, CA\, 93626\, United States
END:VEVENT
BEGIN:VEVENT
DTSTART;TZID=America/Los_Angeles:20250521T113000
DTEND;TZID=America/Los_Angeles:20250521T123000
DTSTAMP:20260421T050534
CREATED:20250405T193942Z
LAST-MODIFIED:20250405T193942Z
UID:2818-1747827000-1747830600@eaglespringsgcc.com
SUMMARY:Liamico
DESCRIPTION:The course will be closed from 11:30am – 12:30pm \nPlease contact the Pro Shop for any questions
URL:https://eaglespringsgcc.com/event/liamico/
LOCATION:CA
END:VEVENT
END:VCALENDAR