BEGIN:VCALENDAR
VERSION:2.0
PRODID:-//Eagle Springs GCC - Pro Shop - ECPv6.15.20//NONSGML v1.0//EN
CALSCALE:GREGORIAN
METHOD:PUBLISH
X-WR-CALNAME:Eagle Springs GCC - Pro Shop
X-ORIGINAL-URL:https://eaglespringsgcc.com
X-WR-CALDESC:Events for Eagle Springs GCC - Pro Shop
REFRESH-INTERVAL;VALUE=DURATION:PT1H
X-Robots-Tag:noindex
X-PUBLISHED-TTL:PT1H
BEGIN:VTIMEZONE
TZID:America/Los_Angeles
BEGIN:DAYLIGHT
TZOFFSETFROM:-0800
TZOFFSETTO:-0700
TZNAME:PDT
DTSTART:20250309T100000
END:DAYLIGHT
BEGIN:STANDARD
TZOFFSETFROM:-0700
TZOFFSETTO:-0800
TZNAME:PST
DTSTART:20251102T090000
END:STANDARD
BEGIN:DAYLIGHT
TZOFFSETFROM:-0800
TZOFFSETTO:-0700
TZNAME:PDT
DTSTART:20260308T100000
END:DAYLIGHT
BEGIN:STANDARD
TZOFFSETFROM:-0700
TZOFFSETTO:-0800
TZNAME:PST
DTSTART:20261101T090000
END:STANDARD
BEGIN:DAYLIGHT
TZOFFSETFROM:-0800
TZOFFSETTO:-0700
TZNAME:PDT
DTSTART:20270314T100000
END:DAYLIGHT
BEGIN:STANDARD
TZOFFSETFROM:-0700
TZOFFSETTO:-0800
TZNAME:PST
DTSTART:20271107T090000
END:STANDARD
END:VTIMEZONE
BEGIN:VEVENT
DTSTART;TZID=America/Los_Angeles:20260202T140000
DTEND;TZID=America/Los_Angeles:20260202T160000
DTSTAMP:20260423T023448
CREATED:20260202T203937Z
LAST-MODIFIED:20260202T204138Z
UID:3209-1770040800-1770048000@eaglespringsgcc.com
SUMMARY:Happy Hour
DESCRIPTION:Happy Hour: \n2pm-4pm Food & Drinks Specials
URL:https://eaglespringsgcc.com/event/happy-hour-2pm-4pm-food-drinks-specials/
LOCATION:CA
CATEGORIES:Cafe Specials
END:VEVENT
BEGIN:VEVENT
DTSTART;TZID=America/Los_Angeles:20260204T110000
DTEND;TZID=America/Los_Angeles:20260204T170000
DTSTAMP:20260423T023448
CREATED:20260202T200948Z
LAST-MODIFIED:20260202T214250Z
UID:3193-1770202800-1770224400@eaglespringsgcc.com
SUMMARY:Akman Tourney
DESCRIPTION:Akman Tourney 11am SG \nCall the Pro Shop for Details
URL:https://eaglespringsgcc.com/event/akman-tourney-11am-sg/
LOCATION:CA
CATEGORIES:Golf Events
END:VEVENT
BEGIN:VEVENT
DTSTART;TZID=America/Los_Angeles:20260205T100000
DTEND;TZID=America/Los_Angeles:20260205T140000
DTSTAMP:20260423T023448
CREATED:20260202T220602Z
LAST-MODIFIED:20260202T220602Z
UID:3240-1770285600-1770300000@eaglespringsgcc.com
SUMMARY:Golf Specials
DESCRIPTION:Golf Specials \n10am – 2pm
URL:https://eaglespringsgcc.com/event/golf-specials/
LOCATION:CA
CATEGORIES:ESGCC Specials
END:VEVENT
BEGIN:VEVENT
DTSTART;TZID=America/Los_Angeles:20260207T060000
DTEND;TZID=America/Los_Angeles:20260207T170000
DTSTAMP:20260423T023448
CREATED:20260202T201918Z
LAST-MODIFIED:20260202T213943Z
UID:3199-1770444000-1770483600@eaglespringsgcc.com
SUMMARY:HOLE #2
DESCRIPTION:Hole #2 \n“Hit The Green” Challenge and Raffle.  \nCall the Pro Shop for Details
URL:https://eaglespringsgcc.com/event/hole-2-hit-the-green-challenge-and-raffle/
LOCATION:CA
CATEGORIES:Golf Events
END:VEVENT
BEGIN:VEVENT
DTSTART;TZID=America/Los_Angeles:20260209T140000
DTEND;TZID=America/Los_Angeles:20260209T160000
DTSTAMP:20260423T023448
CREATED:20260202T214423Z
LAST-MODIFIED:20260202T214423Z
UID:3230-1770645600-1770652800@eaglespringsgcc.com
SUMMARY:Happy Hour
DESCRIPTION:Happy Hour: \n2pm-4pm Food & Drinks Specials
URL:https://eaglespringsgcc.com/event/happy-hour/
LOCATION:CA
CATEGORIES:Cafe Specials
END:VEVENT
BEGIN:VEVENT
DTSTART;TZID=America/Los_Angeles:20260212T100000
DTEND;TZID=America/Los_Angeles:20260212T140000
DTSTAMP:20260423T023448
CREATED:20260202T220655Z
LAST-MODIFIED:20260202T220655Z
UID:3242-1770890400-1770904800@eaglespringsgcc.com
SUMMARY:Golf Specials
DESCRIPTION:Golf Specials \n10am – 2pm
URL:https://eaglespringsgcc.com/event/golf-specials-2/
LOCATION:CA
CATEGORIES:ESGCC Specials
END:VEVENT
BEGIN:VEVENT
DTSTART;TZID=America/Los_Angeles:20260213T060000
DTEND;TZID=America/Los_Angeles:20260213T170000
DTSTAMP:20260423T023448
CREATED:20260202T202025Z
LAST-MODIFIED:20260202T214112Z
UID:3201-1770962400-1771002000@eaglespringsgcc.com
SUMMARY:TaylorMade Fitting Day
DESCRIPTION:TaylorMade Fitting Day \nCall the Pro Shop for Details
URL:https://eaglespringsgcc.com/event/taylormade-fitting-day/
LOCATION:CA
CATEGORIES:Golf Events
END:VEVENT
BEGIN:VEVENT
DTSTART;TZID=America/Los_Angeles:20260214T060000
DTEND;TZID=America/Los_Angeles:20260214T170000
DTSTAMP:20260423T023448
CREATED:20260202T202123Z
LAST-MODIFIED:20260202T213749Z
UID:3203-1771048800-1771088400@eaglespringsgcc.com
SUMMARY:HOLE #7
DESCRIPTION:HOLE #7 \n“Hit The Green” Challenge and Raffle. \n~ Call the Pro Shop for Details
URL:https://eaglespringsgcc.com/event/hole-7-hit-the-green-challenge-raffle/
LOCATION:CA
CATEGORIES:Golf Events
END:VEVENT
BEGIN:VEVENT
DTSTART;TZID=America/Los_Angeles:20260216T060000
DTEND;TZID=America/Los_Angeles:20260216T170000
DTSTAMP:20260423T023448
CREATED:20260202T214757Z
LAST-MODIFIED:20260202T214757Z
UID:3234-1771221600-1771261200@eaglespringsgcc.com
SUMMARY:Holiday Rate
DESCRIPTION:President’s Day Holiday Rate
URL:https://eaglespringsgcc.com/event/holiday-rate/
LOCATION:CA
CATEGORIES:ESGCC Specials
END:VEVENT
BEGIN:VEVENT
DTSTART;TZID=America/Los_Angeles:20260219T100000
DTEND;TZID=America/Los_Angeles:20260219T140000
DTSTAMP:20260423T023448
CREATED:20260202T220816Z
LAST-MODIFIED:20260202T220816Z
UID:3244-1771495200-1771509600@eaglespringsgcc.com
SUMMARY:Golf Specials
DESCRIPTION:Golf Specials \n10am – 2pm
URL:https://eaglespringsgcc.com/event/golf-specials-3/
LOCATION:CA
CATEGORIES:ESGCC Specials
END:VEVENT
BEGIN:VEVENT
DTSTART;TZID=America/Los_Angeles:20260221T060000
DTEND;TZID=America/Los_Angeles:20260221T170000
DTSTAMP:20260423T023448
CREATED:20260202T202245Z
LAST-MODIFIED:20260202T213658Z
UID:3205-1771653600-1771693200@eaglespringsgcc.com
SUMMARY:HOLE #14
DESCRIPTION:Hole #14 \n“Hit The Green” Challenge and Raffle. \n~ Call the Pro Shop for Details
URL:https://eaglespringsgcc.com/event/hole-14-hit-the-green-challenge-and-raffle/
LOCATION:CA
CATEGORIES:Golf Events
END:VEVENT
BEGIN:VEVENT
DTSTART;TZID=America/Los_Angeles:20260222T140000
DTEND;TZID=America/Los_Angeles:20260222T160000
DTSTAMP:20260423T023448
CREATED:20260202T214922Z
LAST-MODIFIED:20260202T214922Z
UID:3236-1771768800-1771776000@eaglespringsgcc.com
SUMMARY:Margarita Day
DESCRIPTION:Margarita Day Specials
URL:https://eaglespringsgcc.com/event/margarita-day/
LOCATION:CA
CATEGORIES:Cafe Specials
END:VEVENT
BEGIN:VEVENT
DTSTART;TZID=America/Los_Angeles:20260223T140000
DTEND;TZID=America/Los_Angeles:20260223T160000
DTSTAMP:20260423T023448
CREATED:20260202T214611Z
LAST-MODIFIED:20260202T214611Z
UID:3232-1771855200-1771862400@eaglespringsgcc.com
SUMMARY:Happy Hour
DESCRIPTION:Happy Hour: \n2pm-4pm Food & Drinks Specials
URL:https://eaglespringsgcc.com/event/happy-hour-2/
LOCATION:CA
CATEGORIES:Cafe Specials
END:VEVENT
BEGIN:VEVENT
DTSTART;TZID=America/Los_Angeles:20260226T060000
DTEND;TZID=America/Los_Angeles:20260226T170000
DTSTAMP:20260423T023448
CREATED:20260202T220419Z
LAST-MODIFIED:20260202T220419Z
UID:3238-1772085600-1772125200@eaglespringsgcc.com
SUMMARY:Callaway Fitting Day
DESCRIPTION:
URL:https://eaglespringsgcc.com/event/callaway-fitting-day/
LOCATION:CA
CATEGORIES:Golf Events
END:VEVENT
BEGIN:VEVENT
DTSTART;TZID=America/Los_Angeles:20260226T110000
DTEND;TZID=America/Los_Angeles:20260226T170000
DTSTAMP:20260423T023448
CREATED:20260202T220928Z
LAST-MODIFIED:20260202T221100Z
UID:3246-1772103600-1772125200@eaglespringsgcc.com
SUMMARY:National Chili Day
DESCRIPTION:Cafe Chili Specials
URL:https://eaglespringsgcc.com/event/national-chili-day/
LOCATION:CA
CATEGORIES:Cafe Specials
END:VEVENT
BEGIN:VEVENT
DTSTART;TZID=America/Los_Angeles:20260228T060000
DTEND;TZID=America/Los_Angeles:20260228T170000
DTSTAMP:20260423T023448
CREATED:20260202T202329Z
LAST-MODIFIED:20260202T213602Z
UID:3207-1772258400-1772298000@eaglespringsgcc.com
SUMMARY:HOLE #17
DESCRIPTION:HOLE #17\n“Hit The Green” Challenge and Raffle.  \nCall the Pro Shop for Details
URL:https://eaglespringsgcc.com/event/hole-17-hit-the-green-challenge-and-raffle/
LOCATION:CA
CATEGORIES:Golf Events
END:VEVENT
BEGIN:VEVENT
DTSTART;TZID=America/Los_Angeles:20260302T140000
DTEND;TZID=America/Los_Angeles:20260302T160000
DTSTAMP:20260423T023448
CREATED:20260227T215113Z
LAST-MODIFIED:20260227T215113Z
UID:3254-1772460000-1772467200@eaglespringsgcc.com
SUMMARY:Happy Hour
DESCRIPTION:Happy Hour \n2PM-4PM \nFood & Drink Specials
URL:https://eaglespringsgcc.com/event/happy-hour-3/
LOCATION:Eagle Springs Golf Course & Country Club\, 21722 Fairway Oaks Lane\, Friant\, CA\, 93626\, United States
CATEGORIES:Cafe Specials
END:VEVENT
BEGIN:VEVENT
DTSTART;TZID=America/Los_Angeles:20260305T080000
DTEND;TZID=America/Los_Angeles:20260308T170000
DTSTAMP:20260423T023448
CREATED:20260227T220119Z
LAST-MODIFIED:20260227T220119Z
UID:3271-1772697600-1772989200@eaglespringsgcc.com
SUMMARY:Arnold Palmer Invitational
DESCRIPTION:Arnold Palmer Invitational
URL:https://eaglespringsgcc.com/event/arnold-palmer-invitational/
LOCATION:CA
CATEGORIES:Golf Events
END:VEVENT
BEGIN:VEVENT
DTSTART;TZID=America/Los_Angeles:20260306T140000
DTEND;TZID=America/Los_Angeles:20260306T160000
DTSTAMP:20260423T023448
CREATED:20260327T143511Z
LAST-MODIFIED:20260327T143511Z
UID:3283-1772805600-1772812800@eaglespringsgcc.com
SUMMARY:Happy Hour
DESCRIPTION:Happy Hour \n2PM-4PM \nFood & Drink Specials
URL:https://eaglespringsgcc.com/event/happy-hour-april/
LOCATION:Eagle Springs Golf Course & Country Club\, 21722 Fairway Oaks Lane\, Friant\, CA\, 93626\, United States
CATEGORIES:Cafe Specials
END:VEVENT
BEGIN:VEVENT
DTSTART;TZID=America/Los_Angeles:20260307T080000
DTEND;TZID=America/Los_Angeles:20260307T170000
DTSTAMP:20260423T023448
CREATED:20260227T215727Z
LAST-MODIFIED:20260227T220022Z
UID:3265-1772870400-1772902800@eaglespringsgcc.com
SUMMARY:Men's Event Club
DESCRIPTION:Eagle Springs Men’s Event Club
URL:https://eaglespringsgcc.com/event/mens-event-club/
LOCATION:CA
CATEGORIES:Golf Events
END:VEVENT
BEGIN:VEVENT
DTSTART;TZID=America/Los_Angeles:20260309T140000
DTEND;TZID=America/Los_Angeles:20260309T160000
DTSTAMP:20260423T023448
CREATED:20260227T215158Z
LAST-MODIFIED:20260227T215310Z
UID:3256-1773064800-1773072000@eaglespringsgcc.com
SUMMARY:Happy Hour
DESCRIPTION:Happy Hour \n2PM-4PM \nFood & Drink Specials
URL:https://eaglespringsgcc.com/event/happy-hour-3-2/
LOCATION:Eagle Springs Golf Course & Country Club\, 21722 Fairway Oaks Lane\, Friant\, CA\, 93626\, United States
CATEGORIES:Cafe Specials
END:VEVENT
BEGIN:VEVENT
DTSTART;TZID=America/Los_Angeles:20260312T080000
DTEND;TZID=America/Los_Angeles:20260315T170000
DTSTAMP:20260423T023448
CREATED:20260227T220216Z
LAST-MODIFIED:20260227T220216Z
UID:3273-1773302400-1773594000@eaglespringsgcc.com
SUMMARY:The Players Championship
DESCRIPTION:The Players Championship
URL:https://eaglespringsgcc.com/event/the-players-championship/
LOCATION:CA
CATEGORIES:Golf Events
END:VEVENT
BEGIN:VEVENT
DTSTART;TZID=America/Los_Angeles:20260314T100000
DTEND;TZID=America/Los_Angeles:20260314T140000
DTSTAMP:20260423T023448
CREATED:20260227T215847Z
LAST-MODIFIED:20260227T215847Z
UID:3267-1773482400-1773496800@eaglespringsgcc.com
SUMMARY:TaylorMade Fitting Day
DESCRIPTION:TaylorMade Fitting Day \nCall the Pro Shop for Details
URL:https://eaglespringsgcc.com/event/taylormade-fitting-day-2/
LOCATION:CA
CATEGORIES:Golf Events
END:VEVENT
BEGIN:VEVENT
DTSTART;TZID=America/Los_Angeles:20260316T140000
DTEND;TZID=America/Los_Angeles:20260316T160000
DTSTAMP:20260423T023448
CREATED:20260227T215238Z
LAST-MODIFIED:20260227T215333Z
UID:3258-1773669600-1773676800@eaglespringsgcc.com
SUMMARY:Happy Hour
DESCRIPTION:Happy Hour \n2PM-4PM \nFood & Drink Specials
URL:https://eaglespringsgcc.com/event/happy-hour-3-2-2/
LOCATION:Eagle Springs Golf Course & Country Club\, 21722 Fairway Oaks Lane\, Friant\, CA\, 93626\, United States
CATEGORIES:Cafe Specials
END:VEVENT
BEGIN:VEVENT
DTSTART;TZID=America/Los_Angeles:20260320T080000
DTEND;TZID=America/Los_Angeles:20260320T170000
DTSTAMP:20260423T023448
CREATED:20260227T215943Z
LAST-MODIFIED:20260227T215943Z
UID:3269-1773993600-1774026000@eaglespringsgcc.com
SUMMARY:Big Daddy Tournament
DESCRIPTION:Big Daddy Tournament
URL:https://eaglespringsgcc.com/event/big-daddy-tournament-3/
LOCATION:CA
CATEGORIES:Golf Events
END:VEVENT
BEGIN:VEVENT
DTSTART;TZID=America/Los_Angeles:20260327T080000
DTEND;TZID=America/Los_Angeles:20260330T170000
DTSTAMP:20260423T023448
CREATED:20260227T220332Z
LAST-MODIFIED:20260327T144630Z
UID:3275-1774598400-1774890000@eaglespringsgcc.com
SUMMARY:Aerification Special
DESCRIPTION:Aerification Special \n$80 \nCart path only
URL:https://eaglespringsgcc.com/event/aerification-special/
LOCATION:Eagle Springs Golf Course & Country Club\, 21722 Fairway Oaks Lane\, Friant\, CA\, 93626\, United States
CATEGORIES:ESGCC Specials
END:VEVENT
BEGIN:VEVENT
DTSTART;TZID=America/Los_Angeles:20260330T140000
DTEND;TZID=America/Los_Angeles:20260330T160000
DTSTAMP:20260423T023448
CREATED:20260227T215614Z
LAST-MODIFIED:20260227T215614Z
UID:3262-1774879200-1774886400@eaglespringsgcc.com
SUMMARY:Happy Hour
DESCRIPTION:Happy Hour \n2PM-4PM \nFood & Drink Specials
URL:https://eaglespringsgcc.com/event/happy-hour-3-2-2-2/
LOCATION:Eagle Springs Golf Course & Country Club\, 21722 Fairway Oaks Lane\, Friant\, CA\, 93626\, United States
CATEGORIES:Cafe Specials
END:VEVENT
BEGIN:VEVENT
DTSTART;TZID=America/Los_Angeles:20260401T080000
DTEND;TZID=America/Los_Angeles:20260403T170000
DTSTAMP:20260423T023448
CREATED:20260327T143415Z
LAST-MODIFIED:20260327T143415Z
UID:3281-1775030400-1775235600@eaglespringsgcc.com
SUMMARY:Aerification Special
DESCRIPTION:Aerification Special \n$80 \nCart path only
URL:https://eaglespringsgcc.com/event/aerification-special-april2026/
LOCATION:Eagle Springs Golf Course & Country Club\, 21722 Fairway Oaks Lane\, Friant\, CA\, 93626\, United States
CATEGORIES:ESGCC Specials
END:VEVENT
BEGIN:VEVENT
DTSTART;TZID=America/Los_Angeles:20260406T140000
DTEND;TZID=America/Los_Angeles:20260406T160000
DTSTAMP:20260423T023448
CREATED:20260327T143627Z
LAST-MODIFIED:20260327T143731Z
UID:3286-1775484000-1775491200@eaglespringsgcc.com
SUMMARY:Happy Hour
DESCRIPTION:Happy Hour \n2PM-4PM \nFood & Drink Specials
URL:https://eaglespringsgcc.com/event/happy-hour-april-2/
LOCATION:Eagle Springs Golf Course & Country Club\, 21722 Fairway Oaks Lane\, Friant\, CA\, 93626\, United States
CATEGORIES:Cafe Specials
END:VEVENT
BEGIN:VEVENT
DTSTART;TZID=America/Los_Angeles:20260408T060000
DTEND;TZID=America/Los_Angeles:20260408T170000
DTSTAMP:20260423T023448
CREATED:20260327T144114Z
LAST-MODIFIED:20260327T145427Z
UID:3297-1775628000-1775667600@eaglespringsgcc.com
SUMMARY:Men's Club Par 3 Contest
DESCRIPTION:Men’s Club Par 3 Contest \nCourse Open
URL:https://eaglespringsgcc.com/event/mens-event-club-par3/
LOCATION:CA
CATEGORIES:Golf Events
END:VEVENT
END:VCALENDAR