BEGIN:VCALENDAR
VERSION:2.0
PRODID:-//Eagle Springs GCC - Pro Shop - ECPv6.15.20//NONSGML v1.0//EN
CALSCALE:GREGORIAN
METHOD:PUBLISH
X-WR-CALNAME:Eagle Springs GCC - Pro Shop
X-ORIGINAL-URL:https://eaglespringsgcc.com
X-WR-CALDESC:Events for Eagle Springs GCC - Pro Shop
REFRESH-INTERVAL;VALUE=DURATION:PT1H
X-Robots-Tag:noindex
X-PUBLISHED-TTL:PT1H
BEGIN:VTIMEZONE
TZID:America/Los_Angeles
BEGIN:DAYLIGHT
TZOFFSETFROM:-0800
TZOFFSETTO:-0700
TZNAME:PDT
DTSTART:20240310T100000
END:DAYLIGHT
BEGIN:STANDARD
TZOFFSETFROM:-0700
TZOFFSETTO:-0800
TZNAME:PST
DTSTART:20241103T090000
END:STANDARD
BEGIN:DAYLIGHT
TZOFFSETFROM:-0800
TZOFFSETTO:-0700
TZNAME:PDT
DTSTART:20250309T100000
END:DAYLIGHT
BEGIN:STANDARD
TZOFFSETFROM:-0700
TZOFFSETTO:-0800
TZNAME:PST
DTSTART:20251102T090000
END:STANDARD
BEGIN:DAYLIGHT
TZOFFSETFROM:-0800
TZOFFSETTO:-0700
TZNAME:PDT
DTSTART:20260308T100000
END:DAYLIGHT
BEGIN:STANDARD
TZOFFSETFROM:-0700
TZOFFSETTO:-0800
TZNAME:PST
DTSTART:20261101T090000
END:STANDARD
END:VTIMEZONE
BEGIN:VEVENT
DTSTART;VALUE=DATE:20251101
DTEND;VALUE=DATE:20251102
DTSTAMP:20260421T012047
CREATED:20250917T195659Z
LAST-MODIFIED:20250917T195752Z
UID:3117-1761955200-1762041599@eaglespringsgcc.com
SUMMARY:Dist. 6
DESCRIPTION:
URL:https://eaglespringsgcc.com/event/dist-6/
LOCATION:Eagle Springs Golf Course & Country Club\, 21722 Fairway Oaks Lane\, Friant\, CA\, 93626\, United States
END:VEVENT
BEGIN:VEVENT
DTSTART;VALUE=DATE:20251102
DTEND;VALUE=DATE:20251103
DTSTAMP:20260421T012047
CREATED:20250917T195722Z
LAST-MODIFIED:20250917T195733Z
UID:3119-1762041600-1762127999@eaglespringsgcc.com
SUMMARY:Men's Club
DESCRIPTION:
URL:https://eaglespringsgcc.com/event/mens-club-4/
LOCATION:Eagle Springs Golf Course & Country Club\, 21722 Fairway Oaks Lane\, Friant\, CA\, 93626\, United States
END:VEVENT
BEGIN:VEVENT
DTSTART;VALUE=DATE:20251122
DTEND;VALUE=DATE:20251123
DTSTAMP:20260421T012047
CREATED:20250917T195823Z
LAST-MODIFIED:20250917T195823Z
UID:3122-1763769600-1763855999@eaglespringsgcc.com
SUMMARY:Men's Club
DESCRIPTION:
URL:https://eaglespringsgcc.com/event/mens-club-5/
LOCATION:Eagle Springs Golf Course & Country Club\, 21722 Fairway Oaks Lane\, Friant\, CA\, 93626\, United States
END:VEVENT
BEGIN:VEVENT
DTSTART;VALUE=DATE:20251127
DTEND;VALUE=DATE:20251128
DTSTAMP:20260421T012047
CREATED:20250917T195843Z
LAST-MODIFIED:20250917T195939Z
UID:3124-1764201600-1764287999@eaglespringsgcc.com
SUMMARY:Thanksgiving
DESCRIPTION:
URL:https://eaglespringsgcc.com/event/thanksgiving/
LOCATION:CA
END:VEVENT
BEGIN:VEVENT
DTSTART;VALUE=DATE:20251128
DTEND;VALUE=DATE:20251129
DTSTAMP:20260421T012047
CREATED:20250917T195923Z
LAST-MODIFIED:20250917T195923Z
UID:3126-1764288000-1764374399@eaglespringsgcc.com
SUMMARY:Black Friday
DESCRIPTION:9:00 AM Tee Time
URL:https://eaglespringsgcc.com/event/black-friday/
LOCATION:Eagle Springs Golf Course & Country Club\, 21722 Fairway Oaks Lane\, Friant\, CA\, 93626\, United States
END:VEVENT
END:VCALENDAR